BEGIN:VCALENDAR
VERSION:2.0
PRODID:-//81.169.145.153//NONSGML kigkonsult.se iCalcreator 2.20//
CALSCALE:GREGORIAN
METHOD:PUBLISH
X-WR-TIMEZONE:UTC
BEGIN:VEVENT
UID:event1539@www.heimatbund-seligenstadt.de
DTSTAMP:20260424T191206Z
CATEGORIES:Kunstforum Seligenstadt
DESCRIPTION:Junger Jazz! Ausgezeichnet! Konzert der Kulturpreisträger\nVere
 in: Kunstforum Seligenstadt\nICS-Link: https://www.heimatbund-seligenstadt
 .de/index.php?option=com_jem&view=event&id=1539:junger-jazz-ausgezeichnet-
 konzert-der-kulturpreistraeger\n
DTSTART:20260522T200000Z
DTEND:20260522T223000Z
LOCATION:St. Josefshaus - Jakobsaal\,Jakobstraße 5\,63500 Seligenstadt
SUMMARY:Junger Jazz! Ausgezeichnet! Konzert der Kulturpreisträger
URL:https://www.heimatbund-seligenstadt.de/index.php?option=com_jem&view=ev
 ent&id=1539:junger-jazz-ausgezeichnet-konzert-der-kulturpreistraeger
END:VEVENT
END:VCALENDAR