BEGIN:VCALENDAR
VERSION:2.0
PRODID:-//81.169.145.153//NONSGML kigkonsult.se iCalcreator 2.20//
CALSCALE:GREGORIAN
METHOD:PUBLISH
X-WR-TIMEZONE:UTC
BEGIN:VEVENT
UID:event1538@www.heimatbund-seligenstadt.de
DTSTAMP:20260424T155748Z
CATEGORIES:Kunstforum Seligenstadt
DESCRIPTION:Tango - Jazz & more ...\nVerein: Kunstforum Seligenstadt\nICS-L
 ink: https://www.heimatbund-seligenstadt.de/index.php?option=com_jem&view=
 event&id=1538:tango-jazz-more\n
DTSTART:20260424T200000Z
DTEND:20260424T223000Z
LOCATION:St. Josefshaus - Jakobsaal\,Jakobstraße 5\,63500 Seligenstadt
SUMMARY:Tango - Jazz & more ...
URL:https://www.heimatbund-seligenstadt.de/index.php?option=com_jem&view=ev
 ent&id=1538:tango-jazz-more
END:VEVENT
END:VCALENDAR