BEGIN:VCALENDAR
VERSION:2.0
PRODID:-//81.169.145.153//NONSGML kigkonsult.se iCalcreator 2.20//
CALSCALE:GREGORIAN
METHOD:PUBLISH
X-WR-TIMEZONE:UTC
BEGIN:VEVENT
UID:event1531@www.heimatbund-seligenstadt.de
DTSTAMP:20260424T173756Z
CATEGORIES:Kolpingfamilie Seligenstadt
DESCRIPTION:75 Jahre Kolping Jubiläumsfest\nVerein: Kolpingfamilie Seligens
 tadt\nICS-Link: https://www.heimatbund-seligenstadt.de/index.php?option=co
 m_jem&view=event&id=1531:75-jahre-kolping-jubilaeumsfest\n
DTSTART;VALUE=DATE:20260627
DTEND;VALUE=DATE:20260629
LOCATION:Kolping Vereinsgelände\,Babenhäuser Weg 2\,63500 Seligenstadt
SUMMARY:75 Jahre Kolping Jubiläumsfest
URL:https://www.heimatbund-seligenstadt.de/index.php?option=com_jem&view=ev
 ent&id=1531:75-jahre-kolping-jubilaeumsfest
END:VEVENT
END:VCALENDAR