BEGIN:VCALENDAR
VERSION:2.0
PRODID:-//81.169.145.153//NONSGML kigkonsult.se iCalcreator 2.20//
CALSCALE:GREGORIAN
METHOD:PUBLISH
X-WR-TIMEZONE:UTC
BEGIN:VEVENT
UID:event1505@www.heimatbund-seligenstadt.de
DTSTAMP:20260424T174935Z
CATEGORIES:Geflügelzuchtverein Seligenstadt
DESCRIPTION:125 Jahre Geflügelzuchtverein Seligenstadt\nVerein: Geflügelzuc
 htverein Seligenstadt\nICS-Link: https://www.heimatbund-seligenstadt.de/in
 dex.php?option=com_jem&view=event&id=1505:125-jahre-gefluegelzuchtverein-s
 eligenstadt\n
DTSTART;VALUE=DATE:20260912
DTEND;VALUE=DATE:20260914
LOCATION:Vereinsgelände
SUMMARY:125 Jahre Geflügelzuchtverein Seligenstadt
URL:https://www.heimatbund-seligenstadt.de/index.php?option=com_jem&view=ev
 ent&id=1505:125-jahre-gefluegelzuchtverein-seligenstadt
END:VEVENT
END:VCALENDAR