BEGIN:VCALENDAR
VERSION:2.0
PRODID:-//81.169.145.153//NONSGML kigkonsult.se iCalcreator 2.20//
CALSCALE:GREGORIAN
METHOD:PUBLISH
X-WR-TIMEZONE:UTC
BEGIN:VEVENT
UID:event1499@www.heimatbund-seligenstadt.de
DTSTAMP:20260424T155815Z
CATEGORIES:----
DESCRIPTION:Blockhausfest\nVerein: ----\nICS-Link: https://www.heimatbund-s
 eligenstadt.de/index.php?option=com_jem&view=event&id=1499:blockhausfest\n
DTSTART;VALUE=DATE:20270807
DTEND;VALUE=DATE:20270809
LOCATION:Vereinsgelände
SUMMARY:Blockhausfest
URL:https://www.heimatbund-seligenstadt.de/index.php?option=com_jem&view=ev
 ent&id=1499:blockhausfest
END:VEVENT
END:VCALENDAR