BEGIN:VCALENDAR
VERSION:2.0
PRODID:-//81.169.145.153//NONSGML kigkonsult.se iCalcreator 2.20//
CALSCALE:GREGORIAN
METHOD:PUBLISH
X-WR-TIMEZONE:UTC
BEGIN:VEVENT
UID:event1496@www.heimatbund-seligenstadt.de
DTSTAMP:20260424T172024Z
CATEGORIES:Wanderclub Edelweiß
DESCRIPTION:Hüttenfest\nVerein: Wanderclub Edelweiß\nICS-Link: https://www.
 heimatbund-seligenstadt.de/index.php?option=com_jem&view=event&id=1496:hue
 ttenfest\n
DTSTART;VALUE=DATE:20270613
DTEND;VALUE=DATE:20270614
LOCATION:Vereinsgelände Edelweiß\,Alter Babenhäuser Weg\,63500 Seligenstadt
SUMMARY:Hüttenfest
URL:https://www.heimatbund-seligenstadt.de/index.php?option=com_jem&view=ev
 ent&id=1496:huettenfest
END:VEVENT
END:VCALENDAR