BEGIN:VCALENDAR
VERSION:2.0
PRODID:-//81.169.145.153//NONSGML kigkonsult.se iCalcreator 2.20//
CALSCALE:GREGORIAN
METHOD:PUBLISH
X-WR-TIMEZONE:UTC
BEGIN:VEVENT
UID:event1492@www.heimatbund-seligenstadt.de
DTSTAMP:20260424T155443Z
CATEGORIES:Gesellschaft der Freunde
DESCRIPTION:Sitzung\nVerein: Gesellschaft der Freunde\nICS-Link: https://ww
 w.heimatbund-seligenstadt.de/index.php?option=com_jem&view=event&id=1492:s
 itzung\n
DTSTART;VALUE=DATE:20270123
DTEND;VALUE=DATE:20270124
LOCATION:Riesensaal\,Sackgasse 14\,63500 Seligenstadt
SUMMARY:Sitzung
URL:https://www.heimatbund-seligenstadt.de/index.php?option=com_jem&view=ev
 ent&id=1492:sitzung
END:VEVENT
END:VCALENDAR