BEGIN:VCALENDAR
VERSION:2.0
PRODID:-//81.169.145.153//NONSGML kigkonsult.se iCalcreator 2.20//
CALSCALE:GREGORIAN
METHOD:PUBLISH
X-WR-TIMEZONE:UTC
BEGIN:VEVENT
UID:event1483@www.heimatbund-seligenstadt.de
DTSTAMP:20260424T155910Z
CATEGORIES:Schwesternhaus e.V.
DESCRIPTION:Oktoberfest\nVerein: Schwesternhaus e.V.\nICS-Link: https://www
 .heimatbund-seligenstadt.de/index.php?option=com_jem&view=event&id=1483:ok
 toberfest\n
DTSTART;VALUE=DATE:20260926
DTEND;VALUE=DATE:20260928
SUMMARY:Oktoberfest
URL:https://www.heimatbund-seligenstadt.de/index.php?option=com_jem&view=ev
 ent&id=1483:oktoberfest
END:VEVENT
END:VCALENDAR