BEGIN:VCALENDAR
VERSION:2.0
PRODID:-//81.169.145.153//NONSGML kigkonsult.se iCalcreator 2.20//
CALSCALE:GREGORIAN
METHOD:PUBLISH
X-WR-TIMEZONE:UTC
BEGIN:VEVENT
UID:event1481@www.heimatbund-seligenstadt.de
DTSTAMP:20260424T155441Z
CATEGORIES:TGS Seligenstadt
DESCRIPTION:Kerb\nVerein: TGS Seligenstadt\nICS-Link: https://www.heimatbun
 d-seligenstadt.de/index.php?option=com_jem&view=event&id=1481:kerb\n
DTSTART;VALUE=DATE:20260828
DTEND;VALUE=DATE:20260901
LOCATION:Vereinsgelände
SUMMARY:Kerb
URL:https://www.heimatbund-seligenstadt.de/index.php?option=com_jem&view=ev
 ent&id=1481:kerb
END:VEVENT
END:VCALENDAR