BEGIN:VCALENDAR
VERSION:2.0
PRODID:-//81.169.145.153//NONSGML kigkonsult.se iCalcreator 2.20//
CALSCALE:GREGORIAN
METHOD:PUBLISH
X-WR-TIMEZONE:UTC
BEGIN:VEVENT
UID:event1474@www.heimatbund-seligenstadt.de
DTSTAMP:20260424T155759Z
CATEGORIES:Stadtkapelle Seligenstadt
DESCRIPTION:1. Maifest\nVerein: Stadtkapelle Seligenstadt\nICS-Link: https:
 //www.heimatbund-seligenstadt.de/index.php?option=com_jem&view=event&id=14
 74:1-maifest\n
DTSTART;VALUE=DATE:20260501
DTEND;VALUE=DATE:20260502
LOCATION:Wasserbau\,Mainuferweg\,63500 Seligenstadt
SUMMARY:1. Maifest
URL:https://www.heimatbund-seligenstadt.de/index.php?option=com_jem&view=ev
 ent&id=1474:1-maifest
END:VEVENT
END:VCALENDAR