BEGIN:VCALENDAR
VERSION:2.0
PRODID:-//81.169.145.153//NONSGML kigkonsult.se iCalcreator 2.20//
CALSCALE:GREGORIAN
METHOD:PUBLISH
X-WR-TIMEZONE:UTC
BEGIN:VEVENT
UID:event1472@www.heimatbund-seligenstadt.de
DTSTAMP:20260424T155610Z
CATEGORIES:Gesellschaft der Freunde
DESCRIPTION:Waldfest \nVerein: Gesellschaft der Freunde\nICS-Link: https://
 www.heimatbund-seligenstadt.de/index.php?option=com_jem&view=event&id=1472
 :waldfest\n
DTSTART;VALUE=DATE:20260501
DTEND;VALUE=DATE:20260502
LOCATION:Brehms Hütte\,63500 Seligenstadt
SUMMARY:Waldfest 
URL:https://www.heimatbund-seligenstadt.de/index.php?option=com_jem&view=ev
 ent&id=1472:waldfest
END:VEVENT
END:VCALENDAR