BEGIN:VCALENDAR
VERSION:2.0
PRODID:-//81.169.145.153//NONSGML kigkonsult.se iCalcreator 2.20//
CALSCALE:GREGORIAN
METHOD:PUBLISH
X-WR-TIMEZONE:UTC
BEGIN:VEVENT
UID:event1405@www.heimatbund-seligenstadt.de
DTSTAMP:20260424T171914Z
CATEGORIES:Gewerbeverein Seligenstadt
DESCRIPTION:Weinmarkt Gewerbeverein\nVerein: Gewerbeverein Seligenstadt\nIC
 S-Link: https://www.heimatbund-seligenstadt.de/index.php?option=com_jem&vi
 ew=event&id=1405:weinmarkt\n
DTSTART;VALUE=DATE:20260918
DTEND;VALUE=DATE:20260921
LOCATION:Innenstadt Seligenstadt\,Marktplatz\,63500 Seligenstadt
SUMMARY:Weinmarkt Gewerbeverein
URL:https://www.heimatbund-seligenstadt.de/index.php?option=com_jem&view=ev
 ent&id=1405:weinmarkt
END:VEVENT
END:VCALENDAR