BEGIN:VCALENDAR
VERSION:2.0
PRODID:-//81.169.145.153//NONSGML kigkonsult.se iCalcreator 2.20//
CALSCALE:GREGORIAN
METHOD:PUBLISH
X-WR-TIMEZONE:UTC
BEGIN:VEVENT
UID:event1404@www.heimatbund-seligenstadt.de
DTSTAMP:20260424T172119Z
CATEGORIES:Gewerbeverein Seligenstadt
DESCRIPTION:Sommer in der Stadt\nVerein: Gewerbeverein Seligenstadt\nICS-Li
 nk: https://www.heimatbund-seligenstadt.de/index.php?option=com_jem&view=e
 vent&id=1404:sommer-in-der-stadt\n
DTSTART;VALUE=DATE:20260619
DTEND;VALUE=DATE:20260622
LOCATION:Innenstadt Seligenstadt\,Marktplatz\,63500 Seligenstadt
SUMMARY:Sommer in der Stadt
URL:https://www.heimatbund-seligenstadt.de/index.php?option=com_jem&view=ev
 ent&id=1404:sommer-in-der-stadt
END:VEVENT
END:VCALENDAR