BEGIN:VCALENDAR
VERSION:2.0
PRODID:-//81.169.145.153//NONSGML kigkonsult.se iCalcreator 2.20//
CALSCALE:GREGORIAN
METHOD:PUBLISH
X-WR-TIMEZONE:UTC
BEGIN:VEVENT
UID:event1471@www.heimatbund-seligenstadt.de
DTSTAMP:20260424T155610Z
CATEGORIES:THW Seligenstadt
DESCRIPTION:Blaulicht-Party\nVerein: THW Seligenstadt\nICS-Link: https://ww
 w.heimatbund-seligenstadt.de/index.php?option=com_jem&view=event&id=1471:b
 laulicht-party\n
DTSTART;VALUE=DATE:20260430
DTEND;VALUE=DATE:20260501
SUMMARY:Blaulicht-Party
URL:https://www.heimatbund-seligenstadt.de/index.php?option=com_jem&view=ev
 ent&id=1471:blaulicht-party
END:VEVENT
END:VCALENDAR